﻿BEGIN:VCALENDAR
VERSION:2.0
PRODID:-//hacksw/handcal//NONSGML v1.0//EN
CALSCALE:GREGORIAN
BEGIN:VEVENT
LOCATION:Santander
DESCRIPTION:
DTSTART:20230926T120400Z
DTEND:20230928T120400Z
SUMMARY:Santander Iberian Roadshow
URL;VALUE=URI:https://neinorhomes.com/accionistas-e-inversores/accionistas/agenda-del-inversor
DTSTAMP:20260422T190725Z
UID:69e9004dc1dec
END:VEVENT
END:VCALENDAR