﻿BEGIN:VCALENDAR
VERSION:2.0
PRODID:-//hacksw/handcal//NONSGML v1.0//EN
CALSCALE:GREGORIAN
BEGIN:VEVENT
LOCATION:Madrid
DESCRIPTION:
DTSTART:20230726T183700Z
DTEND:20230726T183700Z
SUMMARY:1H23 Presentacion de Resultados
URL;VALUE=URI:https://neinorhomes.com/accionistas-e-inversores/accionistas/agenda-del-inversor
DTSTAMP:20260422T190807Z
UID:69e900779dcd3
END:VEVENT
END:VCALENDAR