﻿BEGIN:VCALENDAR
VERSION:2.0
PRODID:-//hacksw/handcal//NONSGML v1.0//EN
CALSCALE:GREGORIAN
BEGIN:VEVENT
LOCATION:London
DESCRIPTION:
DTSTART:20230921T090000Z
DTEND:20230921T230000Z
SUMMARY:16th Pan-European Real Estate conference
URL;VALUE=URI:https://neinorhomes.com/accionistas-e-inversores/accionistas/agenda-del-inversor
DTSTAMP:20260422T203355Z
UID:69e9149311fdb
END:VEVENT
END:VCALENDAR