﻿BEGIN:VCALENDAR
VERSION:2.0
PRODID:-//hacksw/handcal//NONSGML v1.0//EN
CALSCALE:GREGORIAN
BEGIN:VEVENT
LOCATION:Madrid
DESCRIPTION:
DTSTART:20230622T090000Z
DTEND:20230322T160000Z
SUMMARY:Renta 4 - II Seminario de Promotoras
URL;VALUE=URI:https://neinorhomes.com/accionistas-e-inversores/accionistas/agenda-del-inversor
DTSTAMP:20260422T203304Z
UID:69e91460264b9
END:VEVENT
END:VCALENDAR