﻿BEGIN:VCALENDAR
VERSION:2.0
PRODID:-//hacksw/handcal//NONSGML v1.0//EN
CALSCALE:GREGORIAN
BEGIN:VEVENT
LOCATION:Madrid
DESCRIPTION:
DTSTART:20230530T090000Z
DTEND:20230301T180000Z
SUMMARY:BME Foro Med Cap 2023
URL;VALUE=URI:https://neinorhomes.com/accionistas-e-inversores/accionistas/agenda-del-inversor
DTSTAMP:20260422T190341Z
UID:69e8ff6d95bd6
END:VEVENT
END:VCALENDAR