﻿BEGIN:VCALENDAR
VERSION:2.0
PRODID:-//hacksw/handcal//NONSGML v1.0//EN
CALSCALE:GREGORIAN
BEGIN:VEVENT
LOCATION:Madrid
DESCRIPTION:
DTSTART:20230608T080000Z
DTEND:20230608T200000Z
SUMMARY:EPRA Corporate Access Days
URL;VALUE=URI:https://neinorhomes.com/accionistas-e-inversores/accionistas/agenda-del-inversor
DTSTAMP:20260422T190836Z
UID:69e900945b385
END:VEVENT
END:VCALENDAR