﻿BEGIN:VCALENDAR
VERSION:2.0
PRODID:-//hacksw/handcal//NONSGML v1.0//EN
CALSCALE:GREGORIAN
BEGIN:VEVENT
LOCATION:London
DESCRIPTION:
DTSTART:20230606T090000Z
DTEND:20230606T200000Z
SUMMARY:DB Leverage Finance Conference
URL;VALUE=URI:https://neinorhomes.com/accionistas-e-inversores/accionistas/agenda-del-inversor
DTSTAMP:20260422T190935Z
UID:69e900cf8e7dd
END:VEVENT
END:VCALENDAR