﻿BEGIN:VCALENDAR
VERSION:2.0
PRODID:-//hacksw/handcal//NONSGML v1.0//EN
CALSCALE:GREGORIAN
BEGIN:VEVENT
LOCATION:Bilbao
DESCRIPTION:
DTSTART:20230420T090000Z
DTEND:20230420T200000Z
SUMMARY:Junta General de Accionistas
URL;VALUE=URI:https://neinorhomes.com/accionistas-e-inversores/accionistas/agenda-del-inversor
DTSTAMP:20260422T190250Z
UID:69e8ff3ae13a7
END:VEVENT
END:VCALENDAR